BEGIN:VCALENDAR
VERSION:2.0
PRODID:-//Library Market//iCal Export//EN
BEGIN:VEVENT
SUMMARY:Microsoft Excel 2021 Intermediate
UID:128428
DTSTAMP:20260424T223400Z
DTSTART:20260528T233000Z
DTEND:20260529T003000Z
LOCATION:550 Eldridge Rd, Sugar Land, TX 77478, United States
ROOM: Tech Center (Sugar Land)
DESCRIPTION:Already have a handle on the basic features of Microsoft Exc
 el 2021?  Join us as we dive into some intermediate level tips and tricks
 !Registration required; register online below or call 281-238-2140 to regi
 ster.
URL:https://www.fortbendlibraries.gov/event/microsoft-excel-2021-intermedi
 ate-128428
END:VEVENT
END:VCALENDAR
