BEGIN:VCALENDAR
VERSION:2.0
PRODID:-//Library Market//iCal Export//EN
BEGIN:VEVENT
SUMMARY:Intermediate Microsoft Excel
UID:124947
DTSTAMP:20260420T081500Z
DTSTART:20260421T150000Z
DTEND:20260421T160000Z
LOCATION:14010 University Blvd, Sugar Land, TX 77479, United States
ROOM: Computer Lab (University)
DESCRIPTION:Already know the basics of Microsoft Excel?  It’s time to l
 earn intermediate-level skills.Park inside the gated lot (VISITOR LOT 4). 
 Bring your parking ticket with you inside the library to be validated by l
 ibrary staff. Parking is FREE if you get your ticket validated. Parking ou
 tside the gated lot may result in a parking violation from the University 
 of Houston.
URL:https://www.fortbendlibraries.gov/event/intermediate-microsoft-excel-1
 24947
END:VEVENT
END:VCALENDAR
