BEGIN:VCALENDAR
VERSION:2.0
PRODID:-//Library Market//iCal Export//EN
BEGIN:VEVENT
SUMMARY:Computer Class: Tech Help and Resumé Assistance
UID:124866
DTSTAMP:20260420T081500Z
DTSTART:20260422T153000Z
DTEND:20260422T163000Z
LOCATION:320 Dulles Avenue, Stafford, TX 77477, United States
ROOM: Adult Services Department (Mamie George)
DESCRIPTION:Need tech help? Struggling with your personal device? Bring 
 your email, internet, and e-reader questions for one-on-one assistance f
 rom our tech-savvy library staff. Introductions to our resumé and career
 -oriented databases will also be available. Bring your personal device or
  use one of the library’s computers.  Registration not required. Thi
 s program is made possible by the generous support of the Friends of the M
 amie George Branch Library.
URL:https://www.fortbendlibraries.gov/event/computer-class-tech-help-and-r
 esume-assistance-124866
END:VEVENT
END:VCALENDAR
