BEGIN:VCALENDAR
VERSION:2.0
PRODID:-//Library Market//iCal Export//EN
BEGIN:VEVENT
SUMMARY:Family Coloring Hour
UID:124836
DTSTAMP:20260420T081500Z
DTSTART:20260420T210000Z
DTEND:20260420T220000Z
LOCATION:6350 GM Library Rd, Fulshear, TX 77441, United States
ROOM: Family Coloring Hour
DESCRIPTION:Join us every week for Family Coloring Hour! Bring your own co
 loring pages and supplies or choose from our designs and supplies. We will
  play relaxing music while we color to help us unwind. Materials for this
  program are sponsored by the Friends of the Fulshear Branch Library.
URL:https://www.fortbendlibraries.gov/event/family-coloring-hour-124836
END:VEVENT
END:VCALENDAR
