BEGIN:VCALENDAR
VERSION:2.0
PRODID:-//Library Market//iCal Export//EN
BEGIN:VEVENT
SUMMARY:Family Story Time Unplugged
UID:124805
DTSTAMP:20260420T093200Z
DTSTART:20260422T151500Z
DTEND:20260422T153000Z
LOCATION:6350 GM Library Rd, Fulshear, TX 77441, United States
ROOM: Family Story Time Unplugged
DESCRIPTION:Stories, songs, and action rhymes for families with children o
 f all ages. Take-home crafts will be available at the end of the program. 
 Programs will take place in the Middle Grades corner.We are unable to acco
 mmodate daycares and school groups in this program.
URL:https://www.fortbendlibraries.gov/event/family-story-time-unplugged-12
 4805
END:VEVENT
END:VCALENDAR
