BEGIN:VCALENDAR
VERSION:2.0
PRODID:-//Library Market//iCal Export//EN
BEGIN:VEVENT
SUMMARY:Youth Computer Class: Hour of Code
UID:121548
DTSTAMP:20260424T003300Z
DTSTART:20260623T190000Z
DTEND:20260623T194500Z
LOCATION:1530 Texas Parkway, Missouri City, TX 77489, United States
ROOM: Computer Lab (Missouri City)
DESCRIPTION:Join us for and exciting and educational experience during the
  Hour of Code. Whether you’re a beginner or have some experience, this c
 lass offers a fun, interactive introduction to computer programming. For s
 tudents in grades 3-8.
URL:https://www.fortbendlibraries.gov/event/youth-computer-class-hour-code
 -121548
END:VEVENT
END:VCALENDAR
