BEGIN:VCALENDAR
VERSION:2.0
PRODID:-//Library Market//iCal Export//EN
BEGIN:VEVENT
SUMMARY:Youth Computer Class: Typing Club
UID:121547
DTSTAMP:20260423T225300Z
DTSTART:20260609T190000Z
DTEND:20260609T194500Z
LOCATION:1530 Texas Parkway, Missouri City, TX 77489, United States
ROOM: Computer Lab (Missouri City)
DESCRIPTION:Get ready to become a typing pro with our Typing Club class at
  the library! Whether you’re just starting or looking to improve your sp
 eed and accuracy, this class is perfect for you. For students in grades 3-
 8.
URL:https://www.fortbendlibraries.gov/event/youth-computer-class-typing-cl
 ub-121547
END:VEVENT
END:VCALENDAR
