BEGIN:VCALENDAR
VERSION:2.0
PRODID:-//Library Market//iCal Export//EN
BEGIN:VEVENT
SUMMARY:Middle Grade SRC Program: Pokémon Club
UID:121544
DTSTAMP:20260424T010800Z
DTSTART:20260616T190000Z
DTEND:20260616T194500Z
LOCATION:1530 Texas Parkway, Missouri City, TX 77489, United States
ROOM: Meeting Room (Missouri City)
DESCRIPTION:We invite you to step inside the arena and become the best tra
 iner you can be at Pokémon Club! Join us for themed crafts and anime view
 ing for a fun-filled afternoon. Learn the basics of playing the Pokémon T
 rading Card Game or participate in thrilling battles for more experienced 
 players. Whether you’re a new fan or an experienced gamer, all skill lev
 els are welcome to train with us in Pokémon Club. For students in grades 
 4-8.Materials for this program are made possible by the Friends of the Mis
 souri City Branch Library.
URL:https://www.fortbendlibraries.gov/event/middle-grade-src-program-pokem
 on-club-121544
END:VEVENT
END:VCALENDAR
