BEGIN:VCALENDAR
VERSION:2.0
PRODID:-//Library Market//iCal Export//EN
BEGIN:VEVENT
SUMMARY:Middle Grade SRC Program: Sew Your Own Dinosaur Keychain
UID:121543
DTSTAMP:20260423T233100Z
DTSTART:20260602T190000Z
DTEND:20260602T194500Z
LOCATION:1530 Texas Parkway, Missouri City, TX 77489, United States
ROOM: Meeting Room (Missouri City)
DESCRIPTION:Ready, set, RAWR! Celebrate our Summer Reading Challenge theme
  of &quot;Unearth a Story&quot; by sewing your own dinosaur keychain. Lear
 n how to do a simple stitch that will help you make a cute or ferocious cr
 eation! For students in grades 4-8.Materials for this program are made pos
 sible by the Friends of the Missouri City Branch Library.
URL:https://www.fortbendlibraries.gov/event/middle-grade-src-program-sew-y
 our-own-dinosaur-keychain-121543
END:VEVENT
END:VCALENDAR
