BEGIN:VCALENDAR
VERSION:2.0
PRODID:-//Library Market//iCal Export//EN
BEGIN:VEVENT
SUMMARY:Pajama Night Story Time: Eric Carle Day
UID:121529
DTSTAMP:20260423T225300Z
DTSTART:20260622T230000Z
DTEND:20260622T233000Z
LOCATION:1530 Texas Parkway, Missouri City, TX 77489, United States
ROOM: Meeting Room (Missouri City)
DESCRIPTION:Stories, songs and action rhymes for families. This 30-minute 
 program will conclude with an age-appropriate take-home craft activity. Pa
 jamas and blankets are welcome!
URL:https://www.fortbendlibraries.gov/event/pajama-night-story-time-eric-c
 arle-day-121529
END:VEVENT
END:VCALENDAR
