BEGIN:VCALENDAR
VERSION:2.0
PRODID:-//Library Market//iCal Export//EN
BEGIN:VEVENT
SUMMARY:Pajama Night Story Time: In Our Community
UID:121528
DTSTAMP:20260423T225300Z
DTSTART:20260615T230000Z
DTEND:20260615T233000Z
LOCATION:1530 Texas Parkway, Missouri City, TX 77489, United States
ROOM: Meeting Room (Missouri City)
DESCRIPTION:Stories, songs and action rhymes for families. This 30-minute 
 program will conclude with an age-appropriate take-home craft activity. Pa
 jamas and blankets are welcome!
URL:https://www.fortbendlibraries.gov/event/pajama-night-story-time-our-co
 mmunity-121528
END:VEVENT
END:VCALENDAR
