BEGIN:VCALENDAR
VERSION:2.0
PRODID:-//Library Market//iCal Export//EN
BEGIN:VEVENT
SUMMARY:Pajama Night Story Time: Dinosaurs
UID:121526
DTSTAMP:20260423T212900Z
DTSTART:20260601T230000Z
DTEND:20260601T233000Z
LOCATION:1530 Texas Parkway, Missouri City, TX 77489, United States
ROOM: Meeting Room (Missouri City)
DESCRIPTION:Stories, songs and action rhymes for families. This 30-minute 
 program will conclude with an age-appropriate take-home craft activity. Pa
 jamas and blankets are welcome!
URL:https://www.fortbendlibraries.gov/event/pajama-night-story-time-dinosa
 urs-121526
END:VEVENT
END:VCALENDAR
