BEGIN:VCALENDAR
VERSION:2.0
PRODID:-//Library Market//iCal Export//EN
BEGIN:VEVENT
SUMMARY:Family Story Time: In Our Community
UID:121514
DTSTAMP:20260423T230300Z
DTSTART:20260616T151500Z
DTEND:20260616T154500Z
LOCATION:1530 Texas Parkway, Missouri City, TX 77489, United States
ROOM: Meeting Room (Missouri City)
DESCRIPTION:Stories, songs, and action rhymes for families with children o
 f all ages. This 30-minute activity takes place at the library. Take-home 
 crafts will be available at the end of the program.
URL:https://www.fortbendlibraries.gov/event/family-story-time-our-communit
 y-121514
END:VEVENT
END:VCALENDAR
