BEGIN:VCALENDAR
VERSION:2.0
PRODID:-//Library Market//iCal Export//EN
BEGIN:VEVENT
SUMMARY:Family Story Time: The Great Outdoors
UID:121513
DTSTAMP:20260423T230900Z
DTSTART:20260611T151500Z
DTEND:20260611T154500Z
LOCATION:1530 Texas Parkway, Missouri City, TX 77489, United States
ROOM: Meeting Room (Missouri City)
DESCRIPTION:Stories, songs, and action rhymes for families with children o
 f all ages. This 30-minute activity takes place at the library. Take-home 
 crafts will be available at the end of the program.
URL:https://www.fortbendlibraries.gov/event/family-story-time-great-outdoo
 rs-121513
END:VEVENT
END:VCALENDAR
