BEGIN:VCALENDAR
VERSION:2.0
PRODID:-//Library Market//iCal Export//EN
BEGIN:VEVENT
SUMMARY:Family Story Time: Dinosaurs
UID:121511
DTSTAMP:20260423T212900Z
DTSTART:20260604T151500Z
DTEND:20260604T154500Z
LOCATION:1530 Texas Parkway, Missouri City, TX 77489, United States
ROOM: Meeting Room (Missouri City)
DESCRIPTION:Stories, songs, and action rhymes for families with children o
 f all ages. This 30-minute activity takes place at the library. Take-home 
 crafts will be available at the end of the program.
URL:https://www.fortbendlibraries.gov/event/family-story-time-dinosaurs-12
 1511
END:VEVENT
END:VCALENDAR
