BEGIN:VCALENDAR
VERSION:2.0
PRODID:-//Library Market//iCal Export//EN
BEGIN:VEVENT
SUMMARY:Sugar Land Book Break: &quot;Brave the Wild River&quot;
UID:119493
DTSTAMP:20260424T192400Z
DTSTART:20260514T180000Z
DTEND:20260514T190000Z
LOCATION:550 Eldridge Rd, Sugar Land, TX 77478, United States
ROOM: Conference Room (Sugar Land)
DESCRIPTION:Join in a lively group discussion of Brave the Wild River by M
 elissa L. Sevigny. Copies of the book club title are available at the che
 ck-out desk.  New members are always welcome!
URL:https://www.fortbendlibraries.gov/event/sugar-land-book-break-brave-wi
 ld-river-119493
END:VEVENT
END:VCALENDAR
