BEGIN:VCALENDAR
VERSION:2.0
PRODID:-//Library Market//iCal Export//EN
BEGIN:VEVENT
SUMMARY:Evening ESL Conversation Circle
UID:117896
DTSTAMP:20260420T122600Z
DTSTART:20260420T233000Z
DTEND:20260421T010000Z
LOCATION:550 Eldridge Rd, Sugar Land, TX 77478, United States
ROOM: Conference Room (Sugar Land)
DESCRIPTION:Enjoy practicing your English skills in a fun, friendly enviro
 nment!
URL:https://www.fortbendlibraries.gov/event/evening-esl-conversation-circl
 e-117896
END:VEVENT
END:VCALENDAR
