BEGIN:VCALENDAR
VERSION:2.0
PRODID:-//Library Market//iCal Export//EN
BEGIN:VEVENT
SUMMARY:Creative Connection - Saturday-Morning Cartoons
UID:116796
DTSTAMP:20260425T215700Z
DTSTART:20260418T163000Z
DTEND:20260418T173000Z
LOCATION:8421 Addicks Clodine Rd, Houston, TX 77083, United States
ROOM: Meeting Room (Mission Bend)
DESCRIPTION:Join us in this blast from the past viewing of old-school Satu
 rday-morning cartoons! Â This program is intended for students in grades 4
 -8, as it requires a certain level of participant independence, and it may
  include elements not suitable for younger children. While supplies last.Â
  
URL:https://www.fortbendlibraries.gov/event/creative-connection-saturday-m
 orning-cartoons-116796
END:VEVENT
END:VCALENDAR
