BEGIN:VCALENDAR
VERSION:2.0
PRODID:-//Library Market//iCal Export//EN
BEGIN:VEVENT
SUMMARY:Preschool Story Time - Butterflies &amp; Bumblebees
UID:116752
DTSTAMP:20260420T111800Z
DTSTART:20260414T151500Z
DTEND:20260414T160000Z
LOCATION:8421 Addicks Clodine Rd, Houston, TX 77083, United States
ROOM: Meeting Room (Mission Bend)
DESCRIPTION:Stories and a craft for preschool children.  Recommended for 
 ages 3-6 years.  We are unable to accommodate daycares and school groups 
 in this program.
URL:https://www.fortbendlibraries.gov/event/preschool-story-time-butterfli
 es-bumblebees-116752
END:VEVENT
END:VCALENDAR
